BEGIN:VCALENDAR
VERSION:2.0
PRODID:-//Squarespace Inc/Squarespace 6//v6//EN
BEGIN:VEVENT
UID:61d5ca1499ac5025bbdc01ff@squarespace.com
DTSTAMP:20200624T162806Z
DTSTART:20240714T233000Z
DTEND:20240715T003000Z
SUMMARY:Event Five
END:VEVENT
END:VCALENDAR
