BEGIN:VCALENDAR
VERSION:2.0
PRODID:-//Squarespace Inc/Squarespace 6//v6//EN
BEGIN:VEVENT
UID:61d5ca1499ac5025bbdc01fd@squarespace.com
DTSTAMP:20200624T162816Z
DTSTART:20240713T233000Z
DTEND:20240714T003000Z
SUMMARY:Event Four
END:VEVENT
END:VCALENDAR
