BEGIN:VCALENDAR
VERSION:2.0
PRODID:-//Squarespace Inc/Squarespace 6//v6//EN
BEGIN:VEVENT
UID:61d5ca1499ac5025bbdc01f7@squarespace.com
DTSTAMP:20200520T154020Z
DTSTART:20240710T233000Z
DTEND:20240711T003000Z
SUMMARY:Event One
END:VEVENT
END:VCALENDAR
