BEGIN:VCALENDAR
VERSION:2.0
PRODID:-//Squarespace Inc/Squarespace 6//v6//EN
BEGIN:VEVENT
UID:61d5ca1499ac5025bbdc01f9@squarespace.com
DTSTAMP:20200624T162730Z
DTSTART:20240711T233000Z
DTEND:20240712T003000Z
SUMMARY:Event Two
END:VEVENT
END:VCALENDAR
